Workbook

Sheet Instrucciones
D1: Año | E1: Cantidad | F1: Precio | G1: Costo variable
B3: MODELO DE PROYECCIONES FINANCIERAS PARA EMPRESA
B5: DILIGENCIAMIENTO DEL MODELO
B7: Nombre de la Empresa | C7: ConectaDos
B9: 1. INTEGRANTES
B10: Diligencie en los siguientes recuadros las personas que conforman el equipo
B12: Gerente | C12: Jorge Sánchez
C13: Jorge Moreno
I17: Proyecciones Macroeconómicas Clave (2026 - 2030)
B18: 2. Años de proyección | I18: Indicador Macro económico | J18: 2026 | K18: 2027 | L18: 2028 | M18: 2029 | N18: 2030
B19: Ingrese el primer año o año base para las proyecciones financieras (por ejemplo 2010) | I19: Crecimiento PIB Real | J19: 2,6% a 3,0% | K19: 1,8% a 2,1% | L19: 0.028 | M19: 0.029 | N19: 0.03
I20: Inflación (Cierre Año) | J20: 5,8% a 6,4% | K20: 0.048 | L20: 0.04 | M20: 0.035 | N20: 0.03
B21: Año base | C21: 2027 | I21: Déficit Fiscal (% del PIB) | J21: 5,1% a 5,3% | K21: 0.045 | L21: 0.04 | M21: 0.038 | N21: 0.035
I22: Tasa de Desempleo (Promedio) | J22: 0.097 | K22: 0.095 | L22: 0.092 | M22: 0.09 | N22: 0.088
B23: 3. Análisis del entorno | I23: Tasa Cambio (TRM Promedio) | J23: 4000 | K23: 4100 | L23: 4150 | M23: 4200 | N23: 4250
B24: En el análisis del entorno realizado en el proyecto, se proyectaron algunas variables económicas como IPC, PIB, | I24: Variación TRM | J24: -0.15 | K24: =+(K23-J23)/J23 -> 0.025 | L24: =+(L23-K23)/K23 -> 0.012195122 | M24: =+(M23-L23)/L23 -> 0.012048193 | N24: =+(N23-M23)/M23 -> 0.011904762
B25: Tasas de cambio, entre otras. Ingrese a continuación las variables macroeconómicas que proyectó en su trabajo | I25: Cifras proyectadas por el Ministerio de Hacienda mediante el Plan Financiero y el Marco Fiscal de Mediano Plazo, complementadas con el consenso de analistas como BBVA Research y Corficolombiana. Agosto 7 de 2026
C27: =+D1&C21 -> Año 2027 | D27: =+D1&'Información inicial'!I6 -> Año 2028 | E27: =+D1&'Información inicial'!I7 -> Año 2029 | F27: =+D1&'Información inicial'!I8 -> Año 2030 | G27: =+D1&'Información inicial'!I9 -> Año 2031
B28: IPC | C28: 0.069 | D28: 0.048 | E28: 0.043 | F28: 0.03 | G28: 0.03
B29: Re / Devaluación | C29: =+J24 -> -0.15 | D29: =+K24 -> 0.025 | E29: =+L24 -> 0.012195122 | F29: =+M24 -> 0.012048193 | G29: =+N24 -> 0.011904762
B30: Tasa de interés | C30: 0.12 | D30: 0.0925 | E30: 0.06 | F30: 0.045 | G30: 0.04
B31: PIB | C31: 0.025 | D31: 0.028 | E31: 0.035 | F31: 0.034 | G31: 0.034
C32: Fuente: Banrepúbica agosto 07 2026
B33: Salario minimo | C33: 0.23 | D33: 0.08 | E33: 0.075 | F33: 0.06 | G33: 0.06
B34: 4. Análisis de mercadeo
B35: En el plan de mercadeo desde el punto de vista financiero se deben tener las cantidades y precios del primer año
B36: por cada producto o servicio, los factores de crecimiento (con base en indicador o estrategia) y el costo de cada
B37: una de las estrategias de mercadeo. | C37: 0.023
B39: Ingrese el número de productos o servicios que tiene el proyecto | G39: 8 | H39: Categorias
E40: Código | F40: Descripción | G40: Descripcion 2 | H40: Descripcion 3 | I40: Cantidad 2027 | J40: Mes | K40: 0.85
B41: Ingrese el nombre de cada producto o | E41: Agendamiento citas | I41: =+J41*12*$K$40 -> 4477.8 | J41: 439
B42: servicio | E42: Telemedicina | I42: =+J42*12*$K$40 -> 1224 | J42: 120
E43: Laboratorios | I43: =+J43*12*$K$40 -> 918 | J43: 90
E44: Imágenes | I44: =+J44*12*$K$40 -> 510 | J44: 50
E45: Medicamentos | I45: =+J45*12*$K$40 -> 816 | J45: 80
E46: Salud ocupacional | I46: =+J46*12*$K$40 -> 306 | J46: 30
E47: Bienestar | I47: =+J47*12*$K$40 -> 255 | J47: 25
E48: Financiación | I48: =+J48*12*$K$40 -> 204 | J48: 20
I299: =SUM(I41:I298) -> 8710.8
B300: El crecimiento en unidades depende de (marque en el recuadro con una X):
...

Sheet Información inicial
B3: MODELO DE PROYECCIONES Y EVALUACION DE PROYECTO
B5: NOMBRE DEL PROYECTO | D5: =+Instrucciones!C7 -> ConectaDos | H5: AÑO 1 | I5: =+Instrucciones!C21 -> 2027
H6: AÑO 2 | I6: =+I5+1 -> 2028
B7: ELABORADO POR: | D7: =+Instrucciones!C12 -> Jorge Sánchez | H7: AÑO 3 | I7: =+I6+1 -> 2029
D8: =+Instrucciones!C13 -> Jorge Moreno | H8: AÑO 4 | I8: =+I7+1 -> 2030
D9: =+Instrucciones!C14 -> 0 | H9: AÑO 5 | I9: =+I8+1 -> 2031
D10: =+Instrucciones!C15 -> 0
B13: 1. INFORMACIÓN DE VARIABLES ECONÓMICAS
D15: AÑO 1 | E15: AÑO 2 | F15: AÑO 3 | G15: AÑO 4 | H15: AÑO 5 | I15: =+D5 -> ConectaDos
D16: =+I5 -> 2027 | E16: =+I6 -> 2028 | F16: =+I7 -> 2029 | G16: =+I8 -> 2030 | H16: =+I9 -> 2031
B18: IPC PROYECTADO | D18: =+Instrucciones!C28 -> 0.069 | E18: =+Instrucciones!D28 -> 0.048 | F18: =+Instrucciones!E28 -> 0.043 | G18: =+Instrucciones!F28 -> 0.03 | H18: =+Instrucciones!G28 -> 0.03
B19: DEVALUACIÓN PROYECTADA | D19: =+Instrucciones!C29 -> -0.15 | E19: =+Instrucciones!D29 -> 0.025 | F19: =+Instrucciones!E29 -> 0.012195122 | G19: =+Instrucciones!F29 -> 0.012048193 | H19: =+Instrucciones!G29 -> 0.011904762
B20: TASA DE INTERÉS PROYECTADA | D20: =+Instrucciones!C30 -> 0.12 | E20: =+Instrucciones!D30 -> 0.0925 | F20: =+Instrucciones!E30 -> 0.06 | G20: =+Instrucciones!F30 -> 0.045 | H20: =+Instrucciones!G30 -> 0.04
B21: PIB PROYECTADO | D21: =+Instrucciones!C31 -> 0.025 | E21: =+Instrucciones!D31 -> 0.028 | F21: =+Instrucciones!E31 -> 0.035 | G21: =+Instrucciones!F31 -> 0.034 | H21: =+Instrucciones!G31 -> 0.034
B25: 1. INFORMACIÓN DEL PRODUCTO O SERVICIO
B28: CANT. PRODUCTOS O SERVICIOS | C28: =Instrucciones!G39 -> 8 | E28: =IF(C28>0,1,0) -> 1 | F28: =IF(E28>0,Instrucciones!E41," ") -> Agendamiento citas
E29: =IF(E28=0,0,IF($C$28>E28,E28+1,0)) -> 2 | F29: =IF(E29>0,Instrucciones!E42," ") -> Telemedicina
E30: =IF(E29=0,0,IF($C$28>E29,E29+1,0)) -> 3 | F30: =IF(E30>0,Instrucciones!E43," ") -> Laboratorios
E31: =IF(E30=0,0,IF($C$28>E30,E30+1,0)) -> 4 | F31: =IF(E31>0,Instrucciones!E44," ") -> Imágenes
E32: =IF(E31=0,0,IF($C$28>E31,E31+1,0)) -> 5 | F32: =IF(E32>0,Instrucciones!E45," ") -> Medicamentos
E33: =IF(E32=0,0,IF($C$28>E32,E32+1,0)) -> 6 | F33: =IF(E33>0,Instrucciones!E46," ") -> Salud ocupacional
E34: =IF(E33=0,0,IF($C$28>E33,E33+1,0)) -> 7 | F34: =IF(E34>0,Instrucciones!E47," ") -> Bienestar
E35: =IF(E34=0,0,IF($C$28>E34,E34+1,0)) -> 8 | F35: =IF(E35>0,Instrucciones!E48," ") -> Financiación
E36: =IF(E35=0,0,IF($C$28>E35,E35+1,0)) -> 0 | F36: =IF(E36>0,Instrucciones!E49," ")
E37: =IF(E36=0,0,IF($C$28>E36,E36+1,0)) -> 0 | F37: =IF(E37>0,Instrucciones!E50," ")
E38: =IF(E37=0,0,IF($C$28>E37,E37+1,0)) -> 0 | F38: =IF(E38>0,Instrucciones!E51," ")
E39: =IF(E38=0,0,IF($C$28>E38,E38+1,0)) -> 0 | F39: =IF(E39>0,Instrucciones!E52," ")
E40: =IF(E39=0,0,IF($C$28>E39,E39+1,0)) -> 0 | F40: =IF(E40>0,Instrucciones!E53," ")
... E276: =IF(E275=0,0,IF($C$28>E275,E275+1,0)) -> 0 | F276: =IF(E276>0,Instrucciones!E289," ")
E277: =IF(E276=0,0,IF($C$28>E276,E276+1,0)) -> 0
E278: =IF(E277=0,0,IF($C$28>E277,E277+1,0)) -> 0
E279: =IF(E278=0,0,IF($C$28>E278,E278+1,0)) -> 0
B282: 2. INFORMACIÓN PLAN DE MERCADEO
B284: INGRESOS OPERATIVOS (Producto o servicio) | D284: AÑO 1 | E284: AÑO 2 | F284: AÑO 3 | G284: AÑO 4 | H284: AÑO 5
D285: =+D16 -> 2027 | E285: =+E16 -> 2028 | F285: =+F16 -> 2029 | G285: =+G16 -> 2030 | H285: =+H16 -> 2031
B287: FACTOR CRECIMIENTO UNIDADES | E287: =IF(Instrucciones!$C$301="x",'Información inicial'!E21,(IF(Instrucciones!$C$303="x",'Información inicial'!E18,Instrucciones!D306))) -> 0.2 | F287: =IF(Instrucciones!$C$301="x",'Información inicial'!F21,(IF(Instrucciones!$C$303="x",'Información inicial'!F18,Instrucciones!E306))) -> 0.25 | G287: =IF(Instrucciones!$C$301="x",'Información inicial'!G21,(IF(Instrucciones!$C$303="x",'Información inicial'!G18,Instrucciones!F306))) -> 0.2 | H287: =IF(Instrucciones!$C$301="x",'Información inicial'!H21,(IF(Instrucciones!$C$303="x",'Información inicial'!H18,Instrucciones!G306))) -> 0.2
B289: FACTOR INCREMENTO PRECIOS | E289: =IF(Instrucciones!$C$309="x",'Información inicial'!E21,(IF(Instrucciones!$C$311="x",'Información inicial'!E18,Instrucciones!D315))) -> 0.119 | F289: =IF(Instrucciones!$C$309="x",'Información inicial'!F21,(IF(Instrucciones!$C$311="x",'Información inicial'!F18,Instrucciones!E315))) -> 0.098 | G289: =IF(Instrucciones!$C$309="x",'Información inicial'!G21,(IF(Instrucciones!$C$311="x",'Información inicial'!G18,Instrucciones!F315))) -> 0.093 | H289: =IF(Instrucciones!$C$309="x",'Información inicial'!H21,(IF(Instrucciones!$C$311="x",'Información inicial'!H18,Instrucciones!G315))) -> 0.08
E290: año completo
B291: =+F28 -> Agendamiento citas | C291: Cantidades | D291: =IF(C28>0,Instrucciones!E320) -> 4477.8 | E291: =+(D291*(1+$E$287)) -> 5373.36 | F291: =+E291*(1+$F$287) -> 6716.7 | G291: =+F291*(1+$G$287) -> 8060.04 | H291: =+G291*(1+$H$287) -> 9672.048
C292: Precio unitario | D292: =IF(D291>0,Instrucciones!G320) -> 38000 | E292: =+D292*(1+$E$289) -> 42522 | F292: =+E292*(1+$F$289) -> 46689.156 | G292: =+F292*(1+$G$289) -> 51031.248 | H292: =+G292*(1+$H$289) -> 55113.747
...

Sheet Ingresos
B2: =+'Información inicial'!I15 -> ConectaDos
B4: INGRESOS
C6: =+'Información inicial'!D16 -> 2027 | D6: =+'Información inicial'!E16 -> 2028 | E6: =+'Información inicial'!F16 -> 2029 | F6: =+'Información inicial'!G16 -> 2030 | G6: =+'Información inicial'!H16 -> 2031
A8: 1 | B8: =+'Información inicial'!B291 -> Agendamiento citas | C8: =+'Información inicial'!D293 -> 170156400 | D8: =+'Información inicial'!E293 -> 2.2848601e+08 | E8: =+'Información inicial'!F293 -> 3.1359705e+08 | F8: =+'Información inicial'!G293 -> 4.113139e+08 | G8: =+'Información inicial'!H293 -> 5.3306281e+08
A9: 2 | B9: =+'Información inicial'!B295 -> Telemedicina | C9: =+'Información inicial'!D297 -> 29376000 | D9: =+'Información inicial'!E297 -> 39446093 | E9: =+'Información inicial'!F297 -> 54139762 | F9: =+'Información inicial'!G297 -> 71009712 | G9: =+'Información inicial'!H297 -> 92028587
A10: 3 | B10: =+'Información inicial'!B299 -> Laboratorios | C10: =+'Información inicial'!D301 -> 25704000 | D10: =+'Información inicial'!E301 -> 34515331 | E10: =+'Información inicial'!F301 -> 47372292 | F10: =+'Información inicial'!G301 -> 62133498 | G10: =+'Información inicial'!H301 -> 80525014
A11: 4 | B11: =+'Información inicial'!B303 -> Imágenes | C11: =+'Información inicial'!D305 -> 28560000 | D11: =+'Información inicial'!E305 -> 38350368 | E11: =+'Información inicial'!F305 -> 52635880 | F11: =+'Información inicial'!G305 -> 69037220 | G11: =+'Información inicial'!H305 -> 89472238
A12: 5 | B12: =+'Información inicial'!B307 -> Medicamentos | C12: =+'Información inicial'!D309 -> 17625600 | D12: =+'Información inicial'!E309 -> 23667656 | E12: =+'Información inicial'!F309 -> 32483857 | F12: =+'Información inicial'!G309 -> 42605827 | G12: =+'Información inicial'!H309 -> 55217152
A13: 6 | B13: =+'Información inicial'!B311 -> Salud ocupacional | C13: =+'Información inicial'!D313 -> 214200000 | D13: =+'Información inicial'!E313 -> 287627760 | E13: =+'Información inicial'!F313 -> 3.947691e+08 | F13: =+'Información inicial'!G313 -> 5.1777915e+08 | G13: =+'Información inicial'!H313 -> 6.7104178e+08
A14: 7 | B14: =+'Información inicial'!B315 -> Bienestar | C14: =+'Información inicial'!D317 -> 229500000 | D14: =+'Información inicial'!E317 -> 308172600 | E14: =+'Información inicial'!F317 -> 4.2296689e+08 | F14: =+'Información inicial'!G317 -> 5.5476338e+08 | G14: =+'Información inicial'!H317 -> 7.1897334e+08
A15: 8 | B15: =+'Información inicial'!B319 -> Financiación | C15: =+'Información inicial'!D321 -> 163200000 | D15: =+'Información inicial'!E321 -> 2.1914496e+08 | E15: =+'Información inicial'!F321 -> 3.0077646e+08 | F15: =+'Información inicial'!G321 -> 3.944984e+08 | G15: =+'Información inicial'!H321 -> 5.1126993e+08
A16: 9 | B16: =+'Información inicial'!B323 | C16: =+'Información inicial'!D325 -> 0 | D16: =+'Información inicial'!E325 -> 0 | E16: =+'Información inicial'!F325 -> 0 | F16: =+'Información inicial'!G325 -> 0 | G16: =+'Información inicial'!H325 -> 0
A17: 10 | B17: =+'Información inicial'!B327 | C17: =+'Información inicial'!D329 -> 0 | D17: =+'Información inicial'!E329 -> 0 | E17: =+'Información inicial'!F329 -> 0 | F17: =+'Información inicial'!G329 -> 0 | G17: =+'Información inicial'!H329 -> 0
A18: 11 | B18: =+'Información inicial'!B331 | C18: =+'Información inicial'!D333 -> 0 | D18: =+'Información inicial'!E333 -> 0 | E18: =+'Información inicial'!F333 -> 0 | F18: =+'Información inicial'!G333 -> 0 | G18: =+'Información inicial'!H333 -> 0
A19: 12 | B19: =+'Información inicial'!B335 | C19: =+'Información inicial'!D337 -> 0 | D19: =+'Información inicial'!E337 -> 0 | E19: =+'Información inicial'!F337 -> 0 | F19: =+'Información inicial'!G337 -> 0 | G19: =+'Información inicial'!H337 -> 0
A20: 13 | B20: =+'Información inicial'!B339 | C20: =+'Información inicial'!D341 -> 0 | D20: =+'Información inicial'!E341 -> 0 | E20: =+'Información inicial'!F341 -> 0 | F20: =+'Información inicial'!G341 -> 0 | G20: =+'Información inicial'!H341 -> 0
A21: 14 | B21: =+'Información inicial'!B343 | C21: =+'Información inicial'!D345 -> 0 | D21: =+'Información inicial'!E345 -> 0 | E21: =+'Información inicial'!F345 -> 0 | F21: =+'Información inicial'!G345 -> 0 | G21: =+'Información inicial'!H345 -> 0
A22: 15 | B22: =+'Información inicial'!B347 | C22: =+'Información inicial'!D349 -> 0 | D22: =+'Información inicial'!E349 -> 0 | E22: =+'Información inicial'!F349 -> 0 | F22: =+'Información inicial'!G349 -> 0 | G22: =+'Información inicial'!H349 -> 0
A23: 16 | B23: =+'Información inicial'!B351 | C23: =+'Información inicial'!D353 -> 0 | D23: =+'Información inicial'!E353 -> 0 | E23: =+'Información inicial'!F353 -> 0 | F23: =+'Información inicial'!G353 -> 0 | G23: =+'Información inicial'!H353 -> 0
A24: 17 | B24: =+'Información inicial'!B355 | C24: =+'Información inicial'!D357 -> 0 | D24: =+'Información inicial'!E357 -> 0 | E24: =+'Información inicial'!F357 -> 0 | F24: =+'Información inicial'!G357 -> 0 | G24: =+'Información inicial'!H357 -> 0
A25: 18 | B25: =+'Información inicial'!B359 | C25: =+'Información inicial'!D361 -> 0 | D25: =+'Información inicial'!E361 -> 0 | E25: =+'Información inicial'!F361 -> 0 | F25: =+'Información inicial'!G361 -> 0 | G25: =+'Información inicial'!H361 -> 0
A26: 19 | B26: =+'Información inicial'!B363 | C26: =+'Información inicial'!D365 -> 0 | D26: =+'Información inicial'!E365 -> 0 | E26: =+'Información inicial'!F365 -> 0 | F26: =+'Información inicial'!G365 -> 0 | G26: =+'Información inicial'!H365 -> 0
A27: 20 | B27: =+'Información inicial'!B367 | C27: =+'Información inicial'!D369 -> 0 | D27: =+'Información inicial'!E369 -> 0 | E27: =+'Información inicial'!F369 -> 0 | F27: =+'Información inicial'!G369 -> 0 | G27: =+'Información inicial'!H369 -> 0
A28: 21 | B28: =+'Información inicial'!B371 | C28: =+'Información inicial'!D373 -> 0 | D28: =+'Información inicial'!E373 -> 0 | E28: =+'Información inicial'!F373 -> 0 | F28: =+'Información inicial'!G373 -> 0 | G28: =+'Información inicial'!H373 -> 0
A29: 22 | B29: =+'Información inicial'!B375 | C29: =+'Información inicial'!D377 -> 0 | D29: =+'Información inicial'!E377 -> 0 | E29: =+'Información inicial'!F377 -> 0 | F29: =+'Información inicial'!G377 -> 0 | G29: =+'Información inicial'!H377 -> 0
A30: 23 | B30: =+'Información inicial'!B379 | C30: =+'Información inicial'!D381 -> 0 | D30: =+'Información inicial'!E381 -> 0 | E30: =+'Información inicial'!F381 -> 0 | F30: =+'Información inicial'!G381 -> 0 | G30: =+'Información inicial'!H381 -> 0
A31: 24 | B31: =+'Información inicial'!B383 | C31: =+'Información inicial'!D385 -> 0 | D31: =+'Información inicial'!E385 -> 0 | E31: =+'Información inicial'!F385 -> 0 | F31: =+'Información inicial'!G385 -> 0 | G31: =+'Información inicial'!H385 -> 0
A32: 25 | B32: =+'Información inicial'!B387 | C32: =+'Información inicial'!D389 -> 0 | D32: =+'Información inicial'!E389 -> 0 | E32: =+'Información inicial'!F389 -> 0 | F32: =+'Información inicial'!G389 -> 0 | G32: =+'Información inicial'!H389 -> 0
A33: 26 | B33: =+'Información inicial'!B391 | C33: =+'Información inicial'!D393 -> 0 | D33: =+'Información inicial'!E393 -> 0 | E33: =+'Información inicial'!F393 -> 0 | F33: =+'Información inicial'!G393 -> 0 | G33: =+'Información inicial'!H393 -> 0
A34: 27 | B34: =+'Información inicial'!B395 | C34: =+'Información inicial'!D397 -> 0 | D34: =+'Información inicial'!E397 -> 0 | E34: =+'Información inicial'!F397 -> 0 | F34: =+'Información inicial'!G397 -> 0 | G34: =+'Información inicial'!H397 -> 0
A35: 28 | B35: =+'Información inicial'!B399 | C35: =+'Información inicial'!D401 -> 0 | D35: =+'Información inicial'!E401 -> 0 | E35: =+'Información inicial'!F401 -> 0 | F35: =+'Información inicial'!G401 -> 0 | G35: =+'Información inicial'!H401 -> 0
A36: 29 | B36: =+'Información inicial'!B403 | C36: =+'Información inicial'!D405 -> 0 | D36: =+'Información inicial'!E405 -> 0 | E36: =+'Información inicial'!F405 -> 0 | F36: =+'Información inicial'!G405 -> 0 | G36: =+'Información inicial'!H405 -> 0
A37: 30 | B37: =+'Información inicial'!B407 | C37: =+'Información inicial'!D409 -> 0 | D37: =+'Información inicial'!E409 -> 0 | E37: =+'Información inicial'!F409 -> 0 | F37: =+'Información inicial'!G409 -> 0 | G37: =+'Información inicial'!H409 -> 0
A38: 31 | B38: =+'Información inicial'!B411 | C38: =+'Información inicial'!D413 -> 0 | D38: =+'Información inicial'!E413 -> 0 | E38: =+'Información inicial'!F413 -> 0 | F38: =+'Información inicial'!G413 -> 0 | G38: =+'Información inicial'!H413 -> 0
A39: 32 | B39: =+'Información inicial'!B415 | C39: =+'Información inicial'!D417 -> 0 | D39: =+'Información inicial'!E417 -> 0 | E39: =+'Información inicial'!F417 -> 0 | F39: =+'Información inicial'!G417 -> 0 | G39: =+'Información inicial'!H417 -> 0
A40: 33 | B40: =+'Información inicial'!B419 | C40: =+'Información inicial'!D421 -> 0 | D40: =+'Información inicial'!E421 -> 0 | E40: =+'Información inicial'!F421 -> 0 | F40: =+'Información inicial'!G421 -> 0 | G40: =+'Información inicial'!H421 -> 0
A41: 34 | B41: =+'Información inicial'!B423 | C41: =+'Información inicial'!D425 -> 0 | D41: =+'Información inicial'!E425 -> 0 | E41: =+'Información inicial'!F425 -> 0 | F41: =+'Información inicial'!G425 -> 0 | G41: =+'Información inicial'!H425 -> 0
A42: 35 | B42: =+'Información inicial'!B427 | C42: =+'Información inicial'!D429 -> 0 | D42: =+'Información inicial'!E429 -> 0 | E42: =+'Información inicial'!F429 -> 0 | F42: =+'Información inicial'!G429 -> 0 | G42: =+'Información inicial'!H429 -> 0
A43: 36 | B43: =+'Información inicial'!B431 | C43: =+'Información inicial'!D433 -> 0 | D43: =+'Información inicial'!E433 -> 0 | E43: =+'Información inicial'!F433 -> 0 | F43: =+'Información inicial'!G433 -> 0 | G43: =+'Información inicial'!H433 -> 0
A44: 37 | B44: =+'Información inicial'!B435 | C44: =+'Información inicial'!D437 -> 0 | D44: =+'Información inicial'!E437 -> 0 | E44: =+'Información inicial'!F437 -> 0 | F44: =+'Información inicial'!G437 -> 0 | G44: =+'Información inicial'!H437 -> 0
...

Sheet Egresos
B2: =+Ingresos!B2 -> ConectaDos
B4: EGRESOS
C6: =+'Información inicial'!D16 -> 2027 | D6: =+'Información inicial'!E16 -> 2028 | E6: =+'Información inicial'!F16 -> 2029 | F6: =+'Información inicial'!G16 -> 2030 | G6: =+'Información inicial'!H16 -> 2031
B8: Costos variables | C8: =+'Información inicial'!D2316 -> 175664400 | D8: =+'Información inicial'!E2316 -> 2.128298e+08 | E8: =+'Información inicial'!F2316 -> 2.6544056e+08 | F8: =+'Información inicial'!G2316 -> 3.1746531e+08 | G8: =+'Información inicial'!H2316 -> 3.8089107e+08
B10: Costos fijos | C10: =SUM(C12:C23) -> 0 | D10: =SUM(D12:D23) -> 0 | E10: =SUM(E12:E23) -> 0 | F10: =SUM(F12:F23) -> 0 | G10: =SUM(G12:G23) -> 0
B12: =+'Información inicial'!B2323 -> 0 | C12: =+'Información inicial'!D2323 -> 0 | D12: =+'Información inicial'!E2323 -> 0 | E12: =+'Información inicial'!F2323 -> 0 | F12: =+'Información inicial'!G2323 -> 0 | G12: =+'Información inicial'!H2323 -> 0
B13: =+'Información inicial'!B2324 -> 0 | C13: =+'Información inicial'!D2324 -> 0 | D13: =+'Información inicial'!E2324 -> 0 | E13: =+'Información inicial'!F2324 -> 0 | F13: =+'Información inicial'!G2324 -> 0 | G13: =+'Información inicial'!H2324 -> 0
B14: =+'Información inicial'!B2325 -> 0 | C14: =+'Información inicial'!D2325 -> 0 | D14: =+'Información inicial'!E2325 -> 0 | E14: =+'Información inicial'!F2325 -> 0 | F14: =+'Información inicial'!G2325 -> 0 | G14: =+'Información inicial'!H2325 -> 0
B15: =+'Información inicial'!B2326 -> 0 | C15: =+'Información inicial'!D2326 -> 0 | D15: =+'Información inicial'!E2326 -> 0 | E15: =+'Información inicial'!F2326 -> 0 | F15: =+'Información inicial'!G2326 -> 0 | G15: =+'Información inicial'!H2326 -> 0
B16: =+'Información inicial'!B2327 -> 0 | C16: =+'Información inicial'!D2327 -> 0 | D16: =+'Información inicial'!E2327 -> 0 | E16: =+'Información inicial'!F2327 -> 0 | F16: =+'Información inicial'!G2327 -> 0 | G16: =+'Información inicial'!H2327 -> 0
B17: =+'Información inicial'!B2328 -> 0 | C17: =+'Información inicial'!D2328 -> 0 | D17: =+'Información inicial'!E2328 -> 0 | E17: =+'Información inicial'!F2328 -> 0 | F17: =+'Información inicial'!G2328 -> 0 | G17: =+'Información inicial'!H2328 -> 0
B18: =+'Información inicial'!B2329 -> 0 | C18: =+'Información inicial'!D2329 -> 0 | D18: =+'Información inicial'!E2329 -> 0 | E18: =+'Información inicial'!F2329 -> 0 | F18: =+'Información inicial'!G2329 -> 0 | G18: =+'Información inicial'!H2329 -> 0
B19: =+'Información inicial'!B2330 -> 0 | C19: =+'Información inicial'!D2330 -> 0 | D19: =+'Información inicial'!E2330 -> 0 | E19: =+'Información inicial'!F2330 -> 0 | F19: =+'Información inicial'!G2330 -> 0 | G19: =+'Información inicial'!H2330 -> 0
B20: =+'Información inicial'!B2331 -> 0 | C20: =+'Información inicial'!D2331 -> 0 | D20: =+'Información inicial'!E2331 -> 0 | E20: =+'Información inicial'!F2331 -> 0 | F20: =+'Información inicial'!G2331 -> 0 | G20: =+'Información inicial'!H2331 -> 0
B21: =+'Información inicial'!B2332 -> 0 | C21: =+'Información inicial'!D2332 -> 0 | D21: =+'Información inicial'!E2332 -> 0 | E21: =+'Información inicial'!F2332 -> 0 | F21: =+'Información inicial'!G2332 -> 0 | G21: =+'Información inicial'!H2332 -> 0
B22: =+'Información inicial'!B2333 -> 0 | C22: =+'Información inicial'!D2333 -> 0 | D22: =+'Información inicial'!E2333 -> 0 | E22: =+'Información inicial'!F2333 -> 0 | F22: =+'Información inicial'!G2333 -> 0 | G22: =+'Información inicial'!H2333 -> 0
B23: =+'Información inicial'!B2334 -> 0 | C23: =+'Información inicial'!D2334 -> 0 | D23: =+'Información inicial'!E2334 -> 0 | E23: =+'Información inicial'!F2334 -> 0 | F23: =+'Información inicial'!G2334 -> 0 | G23: =+'Información inicial'!H2334 -> 0
B25: TOTAL COSTOS | C25: =+C10+C8 -> 175664400 | D25: =+D10+D8 -> 2.128298e+08 | E25: =+E10+E8 -> 2.6544056e+08 | F25: =+F10+F8 -> 3.1746531e+08 | G25: =+G10+G8 -> 3.8089107e+08
B27: Gastos operativos | C27: =SUM(C29:C49) -> 9.860635e+08 | D27: =SUM(D29:D49) -> 1.0522697e+09 | E27: =SUM(E29:E49) -> 1.1277021e+09 | F27: =SUM(F29:F49) -> 1.1778206e+09 | G27: =SUM(G29:G49) -> 1.2457085e+09
B29: =+'Información inicial'!B2344 -> Arriendo oficina | C29: =+'Información inicial'!D2344 -> 30000000 | D29: =+'Información inicial'!E2344 -> 31440000 | E29: =+'Información inicial'!F2344 -> 32791920 | F29: =+'Información inicial'!G2344 -> 33775678 | G29: =+'Información inicial'!H2344 -> 34788948
B30: =+'Información inicial'!B2345 -> Vehículo Renting | C30: =+'Información inicial'!D2345 -> 26400000 | D30: =+'Información inicial'!E2345 -> 27667200 | E30: =+'Información inicial'!F2345 -> 28856890 | F30: =+'Información inicial'!G2345 -> 29722596 | G30: =+'Información inicial'!H2345 -> 30614274
B31: =+'Información inicial'!B2346 -> Contai - Contabilidad | C31: =+'Información inicial'!D2346 -> 14400000 | D31: =+'Información inicial'!E2346 -> 15091200 | E31: =+'Información inicial'!F2346 -> 15740122 | F31: =+'Información inicial'!G2346 -> 16212325 | G31: =+'Información inicial'!H2346 -> 16698695
B32: =+'Información inicial'!B2347 -> Cafeteria | C32: =+'Información inicial'!D2347 -> 6000000 | D32: =+'Información inicial'!E2347 -> 6288000 | E32: =+'Información inicial'!F2347 -> 6558384 | F32: =+'Información inicial'!G2347 -> 6755135.5 | G32: =+'Información inicial'!H2347 -> 6957789.6
B33: =+'Información inicial'!B2348 -> Abogados | C33: =+'Información inicial'!D2348 -> 9600000 | D33: =+'Información inicial'!E2348 -> 10060800 | E33: =+'Información inicial'!F2348 -> 10493414 | F33: =+'Información inicial'!G2348 -> 10808217 | G33: =+'Información inicial'!H2348 -> 11132463
B34: =+'Información inicial'!B2349 -> Gestión Humana - SST | C34: =+'Información inicial'!D2349 -> 18000000 | D34: =+'Información inicial'!E2349 -> 18864000 | E34: =+'Información inicial'!F2349 -> 19675152 | F34: =+'Información inicial'!G2349 -> 20265407 | G34: =+'Información inicial'!H2349 -> 20873369
B35: =+'Información inicial'!B2350 -> Comunicaciones celulares e internet | C35: =+'Información inicial'!D2350 -> 10800000 | D35: =+'Información inicial'!E2350 -> 11318400 | E35: =+'Información inicial'!F2350 -> 11805091 | F35: =+'Información inicial'!G2350 -> 12159244 | G35: =+'Información inicial'!H2350 -> 12524021
B36: =+'Información inicial'!B2351 -> Seguros | C36: =+'Información inicial'!D2351 -> 8400000 | D36: =+'Información inicial'!E2351 -> 8803200 | E36: =+'Información inicial'!F2351 -> 9181737.6 | F36: =+'Información inicial'!G2351 -> 9457189.7 | G36: =+'Información inicial'!H2351 -> 9740905.4
B37: =+'Información inicial'!B2352 -> Papeleria - varios | C37: =+'Información inicial'!D2352 -> 400000 | D37: =+'Información inicial'!E2352 -> 419200 | E37: =+'Información inicial'!F2352 -> 437225.6 | F37: =+'Información inicial'!G2352 -> 450342.37 | G37: =+'Información inicial'!H2352 -> 463852.64
B38: =+'Información inicial'!B2353 -> Utiles de Oficina | C38: =+'Información inicial'!D2353 -> 500000 | D38: =+'Información inicial'!E2353 -> 524000 | E38: =+'Información inicial'!F2353 -> 546532 | F38: =+'Información inicial'!G2353 -> 562927.96 | G38: =+'Información inicial'!H2353 -> 579815.8
B39: =+'Información inicial'!B2354 -> Consultoria gerencial | C39: =+'Información inicial'!D2354 -> 1500000 | D39: =+'Información inicial'!E2354 -> 1572000 | E39: =+'Información inicial'!F2354 -> 1639596 | F39: =+'Información inicial'!G2354 -> 1688783.9 | G39: =+'Información inicial'!H2354 -> 1739447.4
B40: =+'Información inicial'!B2355 -> Revisora fiscal | C40: =+'Información inicial'!D2355 -> 1500000 | D40: =+'Información inicial'!E2355 -> 1572000 | E40: =+'Información inicial'!F2355 -> 1639596 | F40: =+'Información inicial'!G2355 -> 1688783.9 | G40: =+'Información inicial'!H2355 -> 1739447.4
B41: =+'Información inicial'!B2356 -> Servicios públicos | C41: =+'Información inicial'!D2356 -> 9600000 | D41: =+'Información inicial'!E2356 -> 10060800 | E41: =+'Información inicial'!F2356 -> 10493414 | F41: =+'Información inicial'!G2356 -> 10808217 | G41: =+'Información inicial'!H2356 -> 11132463
B42: =+'Información inicial'!B2357 -> Gasto de representación .- visita de vendedores - | C42: =+('Información inicial'!D2357)/12*2 -> 1400000
B43: =+'Información inicial'!B2358 -> Mantenimiento Plataforma | C43: =+'Información inicial'!D2358 -> 40000000 | D43: =+'Información inicial'!E2358 -> 41920000 | E43: =+'Información inicial'!F2358 -> 43722560 | F43: =+'Información inicial'!G2358 -> 45034237 | G43: =+'Información inicial'!H2358 -> 46385264
B44: =+'Información inicial'!B2359 -> 0 | C44: =+'Información inicial'!D2359 -> 0 | D44: =+'Información inicial'!E2359 -> 0 | E44: =+'Información inicial'!F2359 -> 0 | F44: =+'Información inicial'!G2359 -> 0 | G44: =+'Información inicial'!H2359 -> 0
B45: =+'Información inicial'!B2363 -> Gasto por depreciación | C45: =+'Información inicial'!D2363 -> 24790000 | D45: =+'Información inicial'!E2363 -> 24790000 | E45: =+'Información inicial'!F2363 -> 24790000 | F45: =+'Información inicial'!G2363 -> 0 | G45: =+'Información inicial'!H2363 -> 0
B46: =+'Información inicial'!B2364 -> Gasto por amortización | C46: =+'Información inicial'!D2364 -> 23000000 | D46: =+'Información inicial'!E2364 -> 0 | E46: =+'Información inicial'!F2364 -> 0 | F46: =+'Información inicial'!G2364 -> 0 | G46: =+'Información inicial'!H2364 -> 0
B47: =+'Información inicial'!B2365 -> Gasto por impuestos | C47: =+'Información inicial'!D2365 -> 1444657.6 | D47: =+'Información inicial'!E2365 -> 8655511.2 | E47: =+'Información inicial'!F2365 -> 11308102 | F47: =+'Información inicial'!G2365 -> 15055177 | G47: =+'Información inicial'!H2365 -> 19369140
B48: =+'Información inicial'!B2366 -> Gasto por estrategias de mercado | C48: =+'Información inicial'!D2366 -> 6000000 | D48: =+'Información inicial'!E2366 -> 6414000 | E48: =+'Información inicial'!F2366 -> 6721872 | F48: =+'Información inicial'!G2366 -> 7010912.5 | G48: =+'Información inicial'!H2366 -> 7221239.9
B49: =+'Información inicial'!B2367 -> Gasto por salarios | C49: =+'Información inicial'!D2367 -> 752328840 | D49: =+'Información inicial'!E2367 -> 8.268094e+08 | E49: =+'Información inicial'!F2367 -> 8.9130053e+08 | F49: =+'Información inicial'!G2367 -> 9.5636547e+08 | G49: =+'Información inicial'!H2367 -> 1.0137474e+09
...

Sheet Plan Amortización
B2: =+Egresos!B2 -> ConectaDos
B3: PLAN DE AMORTIZACIÓN
B5: VALOR PRESTAMO | C5: =+'Información inicial'!C2523 -> 4.9643675e+08
B6: PLAZO | C6: =+'Información inicial'!C2525 -> 60
B7: TASA | C7: =+'Información inicial'!D2527 -> 0.0094887929
B8: CUOTA MES | C8: =+'Información inicial'!F2523 -> 10889686
B10: CUOTA | C10: INICIAL | D10: INTERES | E10: CAPITAL | F10: SALDO
B12: 1 | C12: =+C5 -> 4.9643675e+08 | D12: =+C12*$C$7 -> 4710585.5 | E12: =+$C$8-D12 -> 6179100 | F12: =+C12-E12 -> 4.9025765e+08
B13: =IF(B12=0,0,(IF($C$6>B12,B12+1,0))) -> 2 | C13: =+F12 -> 4.9025765e+08 | D13: =+C13*$C$7 -> 4651953.3 | E13: =IF(F12>0,($C$8-D13),0) -> 6237732.2 | F13: =+C13-E13 -> 4.8401992e+08
B14: =IF(B13=0,0,(IF($C$6>B13,B13+1,0))) -> 3 | C14: =+F13 -> 4.8401992e+08 | D14: =+C14*$C$7 -> 4592764.8 | E14: =IF(F13>0,($C$8-D14),0) -> 6296920.8 | F14: =+C14-E14 -> 4.77723e+08
B15: =IF(B14=0,0,(IF($C$6>B14,B14+1,0))) -> 4 | C15: =+F14 -> 4.77723e+08 | D15: =+C15*$C$7 -> 4533014.6 | E15: =IF(F14>0,($C$8-D15),0) -> 6356671 | F15: =+C15-E15 -> 4.7136632e+08
B16: =IF(B15=0,0,(IF($C$6>B15,B15+1,0))) -> 5 | C16: =+F15 -> 4.7136632e+08 | D16: =+C16*$C$7 -> 4472697.5 | E16: =IF(F15>0,($C$8-D16),0) -> 6416988.1 | F16: =+C16-E16 -> 4.6494934e+08
B17: =IF(B16=0,0,(IF($C$6>B16,B16+1,0))) -> 6 | C17: =+F16 -> 4.6494934e+08 | D17: =+C17*$C$7 -> 4411808 | E17: =IF(F16>0,($C$8-D17),0) -> 6477877.6 | F17: =+C17-E17 -> 4.5847146e+08
B18: =IF(B17=0,0,(IF($C$6>B17,B17+1,0))) -> 7 | C18: =+F17 -> 4.5847146e+08 | D18: =+C18*$C$7 -> 4350340.7 | E18: =IF(F17>0,($C$8-D18),0) -> 6539344.8 | F18: =+C18-E18 -> 4.5193211e+08
B19: =IF(B18=0,0,(IF($C$6>B18,B18+1,0))) -> 8 | C19: =+F18 -> 4.5193211e+08 | D19: =+C19*$C$7 -> 4288290.3 | E19: =IF(F18>0,($C$8-D19),0) -> 6601395.3 | F19: =+C19-E19 -> 4.4533072e+08
B20: =IF(B19=0,0,(IF($C$6>B19,B19+1,0))) -> 9 | C20: =+F19 -> 4.4533072e+08 | D20: =+C20*$C$7 -> 4225651 | E20: =IF(F19>0,($C$8-D20),0) -> 6664034.6 | F20: =+C20-E20 -> 4.3866668e+08
B21: =IF(B20=0,0,(IF($C$6>B20,B20+1,0))) -> 10 | C21: =+F20 -> 4.3866668e+08 | D21: =+C21*$C$7 -> 4162417.3 | E21: =IF(F20>0,($C$8-D21),0) -> 6727268.2 | F21: =+C21-E21 -> 4.3193942e+08
B22: =IF(B21=0,0,(IF($C$6>B21,B21+1,0))) -> 11 | C22: =+F21 -> 4.3193942e+08 | D22: =+C22*$C$7 -> 4098583.7 | E22: =IF(F21>0,($C$8-D22),0) -> 6791101.9 | F22: =+C22-E22 -> 4.2514831e+08
B23: =IF(B22=0,0,(IF($C$6>B22,B22+1,0))) -> 12 | C23: =+F22 -> 4.2514831e+08 | D23: =+C23*$C$7 -> 4034144.3 | E23: =IF(F22>0,($C$8-D23),0) -> 6855541.2 | F23: =+C23-E23 -> 4.1829277e+08
B25: Año 1 | D25: =SUM(D12:D23) -> 52532251 | E25: =SUM(E12:E24) -> 78143976
B27: =IF(B23=0,0,(IF($C$6>B23,B23+1,0))) -> 13 | C27: =+F23 -> 4.1829277e+08 | D27: =+C27*$C$7 -> 3969093.5 | E27: =IF(F23>0,($C$8-D27),0) -> 6920592 | F27: =+C27-E27 -> 4.1137218e+08
B28: =IF(B27=0,0,(IF($C$6>B27,B27+1,0))) -> 14 | C28: =+F27 -> 4.1137218e+08 | D28: =+C28*$C$7 -> 3903425.4 | E28: =IF(F27>0,($C$8-D28),0) -> 6986260.1 | F28: =+C28-E28 -> 4.0438592e+08
B29: =IF(B28=0,0,(IF($C$6>B28,B28+1,0))) -> 15 | C29: =+F28 -> 4.0438592e+08 | D29: =+C29*$C$7 -> 3837134.3 | E29: =IF(F28>0,($C$8-D29),0) -> 7052551.3 | F29: =+C29-E29 -> 3.9733337e+08
B30: =IF(B29=0,0,(IF($C$6>B29,B29+1,0))) -> 16 | C30: =+F29 -> 3.9733337e+08 | D30: =+C30*$C$7 -> 3770214.1 | E30: =IF(F29>0,($C$8-D30),0) -> 7119471.5 | F30: =+C30-E30 -> 3.902139e+08
B31: =IF(B30=0,0,(IF($C$6>B30,B30+1,0))) -> 17 | C31: =+F30 -> 3.902139e+08 | D31: =+C31*$C$7 -> 3702658.9 | E31: =IF(F30>0,($C$8-D31),0) -> 7187026.7 | F31: =+C31-E31 -> 3.8302687e+08
B32: =IF(B31=0,0,(IF($C$6>B31,B31+1,0))) -> 18 | C32: =+F31 -> 3.8302687e+08 | D32: =+C32*$C$7 -> 3634462.7 | E32: =IF(F31>0,($C$8-D32),0) -> 7255222.9 | F32: =+C32-E32 -> 3.7577165e+08
B33: =IF(B32=0,0,(IF($C$6>B32,B32+1,0))) -> 19 | C33: =+F32 -> 3.7577165e+08 | D33: =+C33*$C$7 -> 3565619.4 | E33: =IF(F32>0,($C$8-D33),0) -> 7324066.2 | F33: =+C33-E33 -> 3.6844758e+08
B34: =IF(B33=0,0,(IF($C$6>B33,B33+1,0))) -> 20 | C34: =+F33 -> 3.6844758e+08 | D34: =+C34*$C$7 -> 3496122.8 | E34: =IF(F33>0,($C$8-D34),0) -> 7393562.7 | F34: =+C34-E34 -> 3.6105402e+08
B35: =IF(B34=0,0,(IF($C$6>B34,B34+1,0))) -> 21 | C35: =+F34 -> 3.6105402e+08 | D35: =+C35*$C$7 -> 3425966.8 | E35: =IF(F34>0,($C$8-D35),0) -> 7463718.7 | F35: =+C35-E35 -> 3.535903e+08
B36: =IF(B35=0,0,(IF($C$6>B35,B35+1,0))) -> 22 | C36: =+F35 -> 3.535903e+08 | D36: =+C36*$C$7 -> 3355145.2 | E36: =IF(F35>0,($C$8-D36),0) -> 7534540.4 | F36: =+C36-E36 -> 3.4605576e+08
B37: =IF(B36=0,0,(IF($C$6>B36,B36+1,0))) -> 23 | C37: =+F36 -> 3.4605576e+08 | D37: =+C37*$C$7 -> 3283651.5 | E37: =IF(F36>0,($C$8-D37),0) -> 7606034.1 | F37: =+C37-E37 -> 3.3844973e+08
B38: =IF(B37=0,0,(IF($C$6>B37,B37+1,0))) -> 24 | C38: =+F37 -> 3.3844973e+08 | D38: =+C38*$C$7 -> 3211479.4 | E38: =IF(F37>0,($C$8-D38),0) -> 7678206.2 | F38: =+C38-E38 -> 3.3077152e+08
B40: Año 2 | D40: =SUM(D27:D39) -> 43154974 | E40: =SUM(E27:E39) -> 87521253
B42: =IF(B38=0,0,(IF($C$6>B38,B38+1,0))) -> 25 | C42: =+F38 -> 3.3077152e+08 | D42: =+C42*$C$7 -> 3138622.5 | E42: =IF(F38>0,($C$8-D42),0) -> 7751063.1 | F42: =+C42-E42 -> 3.2302046e+08
B43: =IF(B42=0,0,(IF($C$6>B42,B42+1,0))) -> 26 | C43: =+F42 -> 3.2302046e+08 | D43: =+C43*$C$7 -> 3065074.2 | E43: =IF(F42>0,($C$8-D43),0) -> 7824611.3 | F43: =+C43-E43 -> 3.1519585e+08
B44: =IF(B43=0,0,(IF($C$6>B43,B43+1,0))) -> 27 | C44: =+F43 -> 3.1519585e+08 | D44: =+C44*$C$7 -> 2990828.1 | E44: =IF(F43>0,($C$8-D44),0) -> 7898857.4 | F44: =+C44-E44 -> 3.0729699e+08
B45: =IF(B44=0,0,(IF($C$6>B44,B44+1,0))) -> 28 | C45: =+F44 -> 3.0729699e+08 | D45: =+C45*$C$7 -> 2915877.5 | E45: =IF(F44>0,($C$8-D45),0) -> 7973808 | F45: =+C45-E45 -> 2.9932318e+08
B46: =IF(B45=0,0,(IF($C$6>B45,B45+1,0))) -> 29 | C46: =+F45 -> 2.9932318e+08 | D46: =+C46*$C$7 -> 2840215.7 | E46: =IF(F45>0,($C$8-D46),0) -> 8049469.9 | F46: =+C46-E46 -> 2.9127371e+08
B47: =IF(B46=0,0,(IF($C$6>B46,B46+1,0))) -> 30 | C47: =+F46 -> 2.9127371e+08 | D47: =+C47*$C$7 -> 2763835.9 | E47: =IF(F46>0,($C$8-D47),0) -> 8125849.6 | F47: =+C47-E47 -> 2.8314786e+08
B48: =IF(B47=0,0,(IF($C$6>B47,B47+1,0))) -> 31 | C48: =+F47 -> 2.8314786e+08 | D48: =+C48*$C$7 -> 2686731.4 | E48: =IF(F47>0,($C$8-D48),0) -> 8202954.1 | F48: =+C48-E48 -> 2.7494491e+08
...

Sheet Inversión
B2: =+Egresos!B2 -> ConectaDos
B4: INVERSIÓN ACTIVOS
C6: Valor total del activo | D6: Años de vida útil | E6: Depreciación y amortización
B8: MUEBLES Y ENSERES Y EQUIPO DE OFICINA
B10: =+'Información inicial'!B2378 -> Escritorios | C10: =+'Información inicial'!C2378 -> 6400000 | D10: =+'Información inicial'!F2378 -> 3 | E10: =+'Información inicial'!F2382 -> 5190000
B11: =+'Información inicial'!B2379 -> Sillas ergonómicas | C11: =+'Información inicial'!C2379 -> 4800000
B12: =+'Información inicial'!B2380 -> Mesa reuniones | C12: =+'Información inicial'!C2380 -> 2000000
B13: =+'Información inicial'!B2381 -> Archivadores | C13: =+'Información inicial'!C2381 -> 1600000
B14: =+'Información inicial'!B2382 -> Recepción | C14: =+'Información inicial'!C2382 -> 2500000
B15: =+'Información inicial'!B2383 -> 0 | C15: =+'Información inicial'!C2383 -> 0
B16: =+'Información inicial'!B2384 -> 0 | C16: =+'Información inicial'!C2384 -> 0
B17: =+'Información inicial'!B2385 -> 0 | C17: =+'Información inicial'!C2385 -> 0
B18: =+'Información inicial'!B2386 -> 0 | C18: =+'Información inicial'!C2386 -> 0
B19: =+'Información inicial'!B2387 -> 0 | C19: =+'Información inicial'!C2387 -> 0
B20: =+'Información inicial'!B2388 -> 0 | C20: =+'Información inicial'!C2388 -> 0
B21: =+'Información inicial'!B2389 -> 0 | C21: =+'Información inicial'!C2389 -> 0
B23: SUBTOTAL | C23: =SUM(C10:C22) -> 17300000 | E23: =SUM(E10:E22) -> 5190000
B26: MAQUINARIA Y EQUIPO
B28: =+'Información inicial'!B2396 -> 0 | C28: =+'Información inicial'!C2396 -> 0 | D28: =+'Información inicial'!F2396 -> 10 | E28: =+'Información inicial'!F2403 -> 0
B29: =+'Información inicial'!B2397 -> 0 | C29: =+'Información inicial'!C2397 -> 0
B30: =+'Información inicial'!B2398 -> 0 | C30: =+'Información inicial'!C2398 -> 0
B31: =+'Información inicial'!B2399 -> 0 | C31: =+'Información inicial'!C2399 -> 0
B32: =+'Información inicial'!B2400 -> 0 | C32: =+'Información inicial'!C2400 -> 0
B33: =+'Información inicial'!B2401 -> 0 | C33: =+'Información inicial'!C2401 -> 0
B34: =+'Información inicial'!B2402 -> 0 | C34: =+'Información inicial'!C2402 -> 0
B35: =+'Información inicial'!B2403 -> 0 | C35: =+'Información inicial'!C2403 -> 0
B37: SUBTOTAL | C37: =SUM(C28:C35) -> 0 | E37: =SUM(E28:E35) -> 0
B40: VEHICULOS
B42: =+'Información inicial'!B2410 -> 0 | C42: =+'Información inicial'!C2410 -> 0 | D42: =+'Información inicial'!F2410 -> 2 | E42: =+'Información inicial'!F2414 -> 0
B43: =+'Información inicial'!B2411 -> 0 | C43: =+'Información inicial'!C2411 -> 0
B44: =+'Información inicial'!B2412 -> 0 | C44: =+'Información inicial'!C2412 -> 0
B45: =+'Información inicial'!B2413 -> 0 | C45: =+'Información inicial'!C2413 -> 0
B46: =+'Información inicial'!B2414 -> 0 | C46: =+'Información inicial'!C2414 -> 0
B48: SUBTOTAL | C48: =SUM(C42:C46) -> 0 | E48: =SUM(E42:E46) -> 0
B51: TERRENOS
B53: =+'Información inicial'!B2421 -> 0 | C53: =+'Información inicial'!C2421 -> 0
B54: =+'Información inicial'!B2422 -> 0 | C54: =+'Información inicial'!C2422 -> 0
B56: SUBTOTAL | C56: =SUM(C53:C54) -> 0
B59: EDIFICACIONES
B61: =+'Información inicial'!B2429 -> 0 | C61: =+'Información inicial'!C2429 -> 0 | D61: =+'Información inicial'!F2429 -> 5 | E61: =+'Información inicial'!F2433 -> 0
...

Sheet Estado de resultados
B2: =+Inversión!B2 -> ConectaDos
B4: ESTADO DE RESULTADOS
B6: Concepto | C6: =+'Información inicial'!D16 -> 2027 | D6: =+'Información inicial'!E16 -> 2028 | E6: =+'Información inicial'!F16 -> 2029 | F6: =+'Información inicial'!G16 -> 2030 | G6: =+'Información inicial'!H16 -> 2031
D8: =+(D9-C9)/C9 -> 0.3428 | E8: =+(E9-D9)/D9 -> 0.3725 | F8: =+(F9-E9)/E9 -> 0.3116 | G8: =+(G9-F9)/F9 -> 0.296
B9: Ventas | C9: =+Ingresos!C266 -> 878322000 | D9: =+Ingresos!D266 -> 1.1794108e+09 | E9: =+Ingresos!E266 -> 1.6187413e+09 | F9: =+Ingresos!F266 -> 2.1231411e+09 | G9: =+Ingresos!G266 -> 2.7515908e+09
B10: Costos | C10: =+Egresos!C25 -> 175664400 | D10: =+Egresos!D25 -> 2.128298e+08 | E10: =+Egresos!E25 -> 2.6544056e+08 | F10: =+Egresos!F25 -> 3.1746531e+08 | G10: =+Egresos!G25 -> 3.8089107e+08
B11: %Utilidad Bruta | C11: =+C10/C9 -> 0.2 | D11: =+D10/D9 -> 0.18045434 | E11: =+E10/E9 -> 0.16397961 | F11: =+F10/F9 -> 0.14952624 | G11: =+G10/G9 -> 0.13842577
B12: Utilidad Bruta | C12: =+C9-C10 -> 702657600 | D12: =+D9-D10 -> 9.6658098e+08 | E12: =+E9-E10 -> 1.3533007e+09 | F12: =+F9-F10 -> 1.8056758e+09 | G12: =+G9-G10 -> 2.3706998e+09
B14: Gastos operativos | C14: =+Egresos!C27 -> 9.860635e+08 | D14: =+Egresos!D27 -> 1.0522697e+09 | E14: =+Egresos!E27 -> 1.1277021e+09 | F14: =+Egresos!F27 -> 1.1778206e+09 | G14: =+Egresos!G27 -> 1.2457085e+09
D15: =+(D14-C14)/C14 -> 0.067141932 | E15: =+(E14-D14)/D14 -> 0.071685452 | F15: =+(F14-E14)/E14 -> 0.044443033 | G15: =+(G14-F14)/F14 -> 0.057638564
B16: Utilidad antes impuestos e intereses | C16: =+C12-C14 -> -2.834059e+08 | D16: =+D12-D14 -> -85688724 | E16: =+E12-E14 -> 2.255986e+08 | F16: =+F12-F14 -> 6.2785514e+08 | G16: =+G12-G14 -> 1.1249912e+09
B18: Gastos financieros | C18: =+Egresos!C51 -> 52532251 | D18: =+Egresos!D51 -> 43154974 | E18: =+Egresos!E51 -> 32652424 | F18: =+Egresos!F51 -> 20889567 | G18: =+Egresos!G51 -> 7715168.1
B19: Ingresos financieros | C19: =+Ingresos!C268 -> 0 | D19: =+Ingresos!D268 -> 0 | E19: =+Ingresos!E268 -> 0 | F19: =+Ingresos!F268 -> 8189224.1 | G19: =+Ingresos!G268 -> 13669735
B21: Utilidad antes de impuestos | C21: =+C16-C18+C19 -> -3.3593815e+08 | D21: =+D16-D18+D19 -> -1.288437e+08 | E21: =+E16-E18+E19 -> 1.9294618e+08 | F21: =+F16-F18+F19 -> 6.151548e+08 | G21: =+G16-G18+G19 -> 1.1309458e+09
B23: Impuestos | C23: =IF(C21>0,(C21*'Información inicial'!$C$2531),0) -> 0 | D23: =IF(D21>0,(D21*'Información inicial'!$C$2531),0) -> 0 | E23: =IF(E21>0,(E21*'Información inicial'!$C$2531),0) -> 67531162 | F23: =IF(F21>0,(F21*'Información inicial'!$C$2531),0) -> 2.1530418e+08 | G23: =IF(G21>0,(G21*'Información inicial'!$C$2531),0) -> 3.9583104e+08
B24: % Utilidad Neta | C24: =+C25/C9 -> -0.38247721 | D24: =+D25/D9 -> -0.10924412 | E24: =+E25/E9 -> 0.077476874 | F24: =+F25/F9 -> 0.18832974 | G24: =+G25/G9 -> 0.26715992
B25: Utilidad neta | C25: =+C21-C23 -> -3.3593815e+08 | D25: =+D21-D23 -> -1.288437e+08 | E25: =+E21-E23 -> 1.2541502e+08 | F25: =+F21-F23 -> 3.9985062e+08 | G25: =+G21-G23 -> 7.3511478e+08
D26: =+(D25-C25)/C25 -> -0.61646601 | E26: =+(E25-D25)/D25 -> -1.9733888 | F26: =+(F25-E25)/E25 -> 2.1882196 | G26: =+(G25-F25)/F25 -> 0.83847354

Sheet Efectivo
B2: =+'Estado de resultados'!B2:G2 -> ConectaDos
B4: FLUJO DE EFECTIVO
C6: =+D6-1 -> 2026 | D6: =+'Estado de resultados'!C6 -> 2027 | E6: =+'Estado de resultados'!D6 -> 2028 | F6: =+'Estado de resultados'!E6 -> 2029 | G6: =+'Estado de resultados'!F6 -> 2030 | H6: =+'Estado de resultados'!G6 -> 2031
B8: SALDO INICIAL | C8: 0 | D8: =+C37 -> 4.7263675e+08 | E8: =+D37 -> 47789825 | F8: =+E37 -> -1.6577874e+08 | G8: =+F37 -> -78293012 | H8: =+G37 -> 3.2184604e+08
B10: FUENTES DE EFECTIVO:
E11: =+E13/E12 -> 0.06770114 | F11: =+F13/F12 -> 0.066236132 | G11: =+G13/G12 -> 0.069311597 | H11: =+H13/H12 -> 0.070145903
B12: Ventas de contado | D12: =+'Información inicial'!D2546 -> 805128500 | E12: =+'Información inicial'!E2546 -> 1.0811265e+09 | F12: =+'Información inicial'!F2546 -> 1.4838462e+09 | G12: =+'Información inicial'!G2546 -> 1.9462127e+09 | H12: =+'Información inicial'!H2546 -> 2.5222916e+09
B13: Recuperación de cartera | E13: =+'Información inicial'!D2542 -> 73193500 | F13: =+'Información inicial'!E2542 -> 98284232 | G13: =+'Información inicial'!F2542 -> 1.3489511e+08 | H13: =+'Información inicial'!G2542 -> 1.7692842e+08
B14: Adquisición de préstamos | C14: =+'Información inicial'!C2523 -> 4.9643675e+08
B15: Aportes de capital | C15: =+'Información inicial'!C2521 -> 90000000
B16: Rendimientos financieros | E16: =+Ingresos!D268 -> 0 | F16: =+Ingresos!E268 -> 0 | G16: =+Ingresos!F268 -> 8189224.1 | H16: =+Ingresos!G268 -> 13669735
B17: Venta de activos fijos
B19: TOTAL FUENTES | C19: =SUM(C11:C17) -> 5.8643675e+08 | D19: =SUM(D11:D17) -> 805128500 | E19: =SUM(E11:E17) -> 1.15432e+09 | F19: =SUM(F11:F17) -> 1.5821304e+09 | G19: =SUM(G11:G17) -> 2.089297e+09 | H19: =SUM(H11:H17) -> 2.7128898e+09
B21: USOS DE EFECTIVO
E22: =+(E23-D23)/D23 -> 0.21157047 | F22: =+(F23-E23)/E23 -> 0.2471964 | G22: =+(G23-F23)/F23 -> 0.19599397 | H22: =+(H23-G23)/G23 -> 0.19978801
B23: Costos operativos | D23: =+Egresos!C10+Egresos!C8-'Información inicial'!D2511-'Información inicial'!D2544+'Información inicial'!D2543 -> 161025700 | E23: =+Egresos!D10+Egresos!D8-E25+'Información inicial'!D2544-'Información inicial'!E2544-'Información inicial'!D2543+'Información inicial'!E2543 -> 1.9509398e+08 | F23: =+Egresos!E10+Egresos!E8-F25+'Información inicial'!E2544-'Información inicial'!F2544-'Información inicial'!E2543+'Información inicial'!F2543 -> 2.4332051e+08 | G23: =+Egresos!F10+Egresos!F8-G25+'Información inicial'!F2544-'Información inicial'!G2544-'Información inicial'!F2543+'Información inicial'!G2543 -> 2.9100987e+08 | H23: =+Egresos!G10+Egresos!G8-H25+'Información inicial'!G2544-'Información inicial'!H2544-'Información inicial'!G2543+'Información inicial'!H2543 -> 3.4915015e+08
B24: Gastos operativos | D24: =+Egresos!C27 -> 9.860635e+08 | E24: =+Egresos!D27 -> 1.0522697e+09 | F24: =+Egresos!E27 -> 1.1277021e+09 | G24: =+Egresos!F27 -> 1.1778206e+09 | H24: =+Egresos!G27 -> 1.2457085e+09
B25: Pago de proveedores | E25: =+'Información inicial'!D2544 -> 14638700 | F25: =+'Información inicial'!E2544 -> 17735817 | G25: =+'Información inicial'!F2544 -> 22120047 | H25: =+'Información inicial'!G2544 -> 26455442
B26: Inversión en activos fijos e inventarios | C26: =+'Información inicial'!C2467+'Información inicial'!D2511 -> 113800000
B27: Servicio de la deuda | D27: =+'Plan Amortización'!E25 -> 78143976 | E27: =+'Plan Amortización'!E40 -> 87521253 | F27: =+'Plan Amortización'!E55 -> 98023803 | G27: =+'Plan Amortización'!E70 -> 1.0978666e+08 | H27: =+'Plan Amortización'!E85 -> 1.2296106e+08
B28: Intereses | D28: =+'Estado de resultados'!C18 -> 52532251 | E28: =+'Estado de resultados'!D18 -> 43154974 | F28: =+'Estado de resultados'!E18 -> 32652424 | G28: =+'Estado de resultados'!F18 -> 20889567 | H28: =+'Estado de resultados'!G18 -> 7715168.1
B29: Impuestos | E29: =+'Estado de resultados'!C23 -> 0 | F29: =+'Estado de resultados'!D23 -> 0 | G29: =+'Estado de resultados'!E23 -> 67531162 | H29: =+'Estado de resultados'!F23 -> 2.1530418e+08
B30: Dividendos
B31: Depreciación y amortización ( - ) | D31: =-Egresos!C45-Egresos!C46 -> -47790000 | E31: =-Egresos!D45-Egresos!D46 -> -24790000 | F31: =-Egresos!E45-Egresos!E46 -> -24790000 | G31: =-Egresos!F45-Egresos!F46 -> 0 | H31: =-Egresos!G45-Egresos!G46 -> 0
B33: TOTAL USOS | C33: =SUM(C22:C31) -> 113800000 | D33: =SUM(D22:D31) -> 1.2299754e+09 | E33: =SUM(E22:E31) -> 1.3678886e+09 | F33: =SUM(F22:F31) -> 1.4946447e+09 | G33: =SUM(G22:G31) -> 1.6891579e+09 | H33: =SUM(H22:H31) -> 1.9672945e+09
B35: EXCEDENTE O DÉFICIT EFECTIVO | C35: =+C19-C33 -> 4.7263675e+08 | D35: =+D19-D33 -> -4.2484692e+08 | E35: =+E19-E33 -> -2.1356857e+08 | F35: =+F19-F33 -> 87485729 | G35: =+G19-G33 -> 4.0013905e+08 | H35: =+H19-H33 -> 7.4559524e+08
B37: SALDO FINAL DE EFECTIVO | C37: =+C8+C35 -> 4.7263675e+08 | D37: =+D8+D35 -> 47789825 | E37: =+E8+E35 -> -1.6577874e+08 | F37: =+F8+F35 -> -78293012 | G37: =+G8+G35 -> 3.2184604e+08 | H37: =+H8+H35 -> 1.0674413e+09

Sheet Balance General
B2: =+Inversión!B2 -> ConectaDos
B4: BALANCE GENERAL
C6: =+D6-1 -> 2026 | D6: =+'Estado de resultados'!C6 -> 2027 | E6: =+'Estado de resultados'!D6 -> 2028 | F6: =+'Estado de resultados'!E6 -> 2029 | G6: =+'Estado de resultados'!F6 -> 2030 | H6: =+'Estado de resultados'!G6 -> 2031
B8: Activos corrientes
B10: Disponible | C10: =+Efectivo!D8 -> 4.7263675e+08 | D10: =+'Información inicial'!C2539+Efectivo!E8 -> 48789825 | E10: =+D10+Efectivo!F8 -> -1.1698892e+08 | F10: =+E10+Efectivo!G8 -> -1.9528193e+08 | G10: =+F10+Efectivo!H8 -> 1.2656411e+08 | H10: =+G10 -> 1.2656411e+08
B11: Inversiones temporales | D11: =IF(D10<Efectivo!D37,Efectivo!D37-'Balance General'!D10,0) -> 0 | E11: =IF(E10<Efectivo!E37,Efectivo!E37-'Balance General'!E10,0) -> 0 | F11: =IF(F10<Efectivo!F37,Efectivo!F37-'Balance General'!F10,0) -> 1.1698892e+08 | G11: =IF(G10<Efectivo!G37,Efectivo!G37-'Balance General'!G10,0) -> 1.9528193e+08 | H11: =IF(H10<Efectivo!H37,Efectivo!H37-'Balance General'!H10,0) -> 9.4087717e+08
B12: Deudores (cuentas por cobrar) | D12: =+'Información inicial'!D2542 -> 73193500 | E12: =+'Información inicial'!E2542 -> 98284232 | F12: =+'Información inicial'!F2542 -> 1.3489511e+08 | G12: =+'Información inicial'!G2542 -> 1.7692842e+08 | H12: =+'Información inicial'!H2542 -> 2.2929924e+08
B13: Inventarios | C13: =+'Información inicial'!D2511 -> 0 | D13: =+'Información inicial'!D2543 -> 0 | E13: =+'Información inicial'!E2543 -> 0 | F13: =+'Información inicial'!F2543 -> 0 | G13: =+'Información inicial'!G2543 -> 0 | H13: =+'Información inicial'!H2543 -> 0
B14: Otros activos | E14: =+IF(D3=0,0,((E13-D13)/D13)) -> 0 | F14: =+IF(E3=0,0,((F13-E13)/E13)) -> 0 | G14: =+IF(F3=0,0,((G13-F13)/F13)) -> 0 | H14: =+IF(G3=0,0,((H13-G13)/G13)) -> 0
B16: Total activo corriente | C16: =SUM(C10:C13) -> 4.7263675e+08 | D16: =SUM(D10:D13) -> 1.2198332e+08 | E16: =SUM(E10:E13) -> -18704685 | F16: =SUM(F10:F13) -> 56602096 | G16: =SUM(G10:G13) -> 4.9877447e+08 | H16: =SUM(H10:H13) -> 1.2967405e+09
E17: =E16/D16-1 -> -1.153338
B18: Activos de largo plazo
B20: Muebles y enseres | C20: =+Inversión!C23 -> 17300000 | D20: =+C20 -> 17300000 | E20: =+D20 -> 17300000 | F20: =+E20 -> 17300000 | G20: =+F20 -> 17300000 | H20: =+G20 -> 17300000
B21: Maquinaria y equipo | C21: =+Inversión!C37 -> 0 | D21: =+C21 -> 0 | E21: =+D21 -> 0 | F21: =+E21 -> 0 | G21: =+F21 -> 0 | H21: =+G21 -> 0
B22: Vehículos | C22: =+Inversión!C48 -> 0 | D22: =+C22 -> 0 | E22: =+D22 -> 0 | F22: =+E22 -> 0 | G22: =+F22 -> 0 | H22: =+G22 -> 0
B23: Terrenos | C23: =+Inversión!C56 -> 0 | D23: =+C23 -> 0 | E23: =+D23 -> 0 | F23: =+E23 -> 0 | G23: =+F23 -> 0 | H23: =+G23 -> 0
B24: Edificaciones | C24: =+Inversión!C65 -> 0 | D24: =+C24 -> 0 | E24: =+D24 -> 0 | F24: =+E24 -> 0 | G24: =+F24 -> 0 | H24: =+G24 -> 0
B25: Equipo de computación | C25: =+Inversión!C79 -> 73500000 | D25: =+C25 -> 73500000 | E25: =+D25 -> 73500000 | F25: =+E25 -> 73500000 | G25: =+F25 -> 73500000 | H25: =+G25 -> 73500000
B26: Depreciación acumulada | C26: 0 | D26: =-'Información inicial'!D2469 -> -24790000 | E26: =-'Información inicial'!E2469+D26 -> -49580000 | F26: =-'Información inicial'!F2469+E26 -> -74370000 | G26: =-'Información inicial'!G2469+F26 -> -74370000 | H26: =-'Información inicial'!H2469+G26 -> -74370000
B27: Software e intangibles | C27: =+Inversión!C88 -> 23000000 | D27: =+C27 -> 23000000 | E27: =+D27 -> 23000000 | F27: =+E27 -> 23000000 | G27: =+F27 -> 23000000 | H27: =+G27 -> 23000000
B28: Amortización acumulada | D28: =-'Información inicial'!D2471 -> -23000000 | E28: =-'Información inicial'!E2471+D28 -> -23000000 | F28: =-'Información inicial'!F2471+E28 -> -23000000 | G28: =-'Información inicial'!G2471+F28 -> -23000000 | H28: =-'Información inicial'!H2471+G28 -> -23000000
B30: Total activos no corrientes | C30: =SUM(C20:C29) -> 113800000 | D30: =SUM(D20:D29) -> 66010000 | E30: =SUM(E20:E29) -> 41220000 | F30: =SUM(F20:F29) -> 16430000 | G30: =SUM(G20:G29) -> 16430000 | H30: =SUM(H20:H29) -> 16430000
B32: Total activos | C32: =C16+C30 -> 5.8643675e+08 | D32: =D16+D30 -> 1.8799332e+08 | E32: =E16+E30 -> 22515315 | F32: =F16+F30 -> 73032096 | G32: =G16+G30 -> 5.1520447e+08 | H32: =H16+H30 -> 1.3131705e+09
D33: =D32/C32-1 -> -0.6794312 | E33: =E32/D32-1 -> -0.88023343 | F33: =F32/E32-1 -> 2.243663 | G33: =G32/F32-1 -> 6.0544938 | H33: =H32/G32-1 -> 1.5488337
B34: Pasivos corrientes
B36: Proveedores | C36: 0 | D36: =+'Información inicial'!D2544 -> 14638700 | E36: =+'Información inicial'!E2544 -> 17735817 | F36: =+'Información inicial'!F2544 -> 22120047 | G36: =+'Información inicial'!G2544 -> 26455442 | H36: =+'Información inicial'!H2544 -> 31740922
B37: Impuesto por pagar | D37: =+'Estado de resultados'!C23 -> 0 | E37: =+'Estado de resultados'!D23 -> 0 | F37: =+'Estado de resultados'!E23 -> 67531162 | G37: =+'Estado de resultados'!F23 -> 2.1530418e+08 | H37: =+'Estado de resultados'!G23 -> 3.9583104e+08
B38: Obligaciones financieras corrientes | C38: =IF('Información inicial'!C2523>100,(SUM('Plan Amortización'!E12:E23)),0) -> 78143976 | D38: =+Efectivo!E27 -> 87521253 | E38: =+Efectivo!F27 -> 98023803 | F38: =+Efectivo!G27 -> 1.0978666e+08 | G38: =+Efectivo!H27 -> 1.2296106e+08 | H38: =+Efectivo!I27 -> 0
B40: Total pasivos corrientes | C40: =SUM(C36:C39) -> 78143976 | D40: =SUM(D36:D39) -> 1.0215995e+08 | E40: =SUM(E36:E39) -> 1.1575962e+08 | F40: =SUM(F36:F39) -> 1.9943787e+08 | G40: =SUM(G36:G39) -> 3.6472068e+08 | H40: =SUM(H36:H39) -> 4.2757196e+08
B42: Pasivos no corrientes
B44: Obligaciones financieras no corrientes | C44: =IF('Información inicial'!C2523>100,'Información inicial'!C2523-'Balance General'!C38,0) -> 4.1829277e+08 | D44: =+C44-D38 -> 3.3077152e+08 | E44: =+D44-E38 -> 2.3274772e+08 | F44: =+E44-F38 -> 1.2296106e+08 | G44: =+F44-G38 -> 0 | H44: =+G44-H38 -> 0
B46: Total pasivos no corrientes | C46: =SUM(C44:C45) -> 4.1829277e+08 | D46: =SUM(D44:D45) -> 3.3077152e+08 | E46: =SUM(E44:E45) -> 2.3274772e+08 | F46: =SUM(F44:F45) -> 1.2296106e+08 | G46: =SUM(G44:G45) -> 0 | H46: =SUM(H44:H45) -> 0
B48: Total pasivos | C48: =C40+C46 -> 4.9643675e+08 | D48: =D40+D46 -> 4.3293147e+08 | E48: =E40+E46 -> 3.4850734e+08 | F48: =F40+F46 -> 3.2239893e+08 | G48: =G40+G46 -> 3.6472068e+08 | H48: =H40+H46 -> 4.2757196e+08
D49: =+(D48-C48)/C48 -> -0.12792219 | E49: =+(E48-D48)/D48 -> -0.19500577 | F49: =+(F48-E48)/E48 -> -0.074914952 | G49: =+(G48-F48)/F48 -> 0.13127138 | H49: =+(H48-G48)/G48 -> 0.17232716
B50: Patrimonio
B52: Capital | C52: =+'Información inicial'!C2521 -> 90000000 | D52: =+C52 -> 90000000 | E52: =+D52 -> 90000000 | F52: =+E52 -> 90000000 | G52: =+F52 -> 90000000 | H52: =+G52 -> 90000000
B53: Reserva Legal | C53: 0 | D53: =IF(C55>0,(C55*10%),0) -> 0 | E53: =IF(D55>0,(D55*10%),0) -> 0 | F53: =+E55*10%+E53 -> -12884370 | G53: =+F55*10%+F53 -> -342868.21 | H53: =+G55*10%+G53 -> 39642194 | I53: =SUM(F53/E53-1) -> #DIV/0!
B54: Utilidades retenidas | C54: 0 | D54: =+C55-D53 -> 0 | E54: =+D55-E53 -> -3.3593815e+08 | F54: =+E55-E55*10%+E54 -> -4.5189748e+08 | G54: =+F55-F55*10%+F54 -> -3.3902396e+08 | H54: =+G55-G55*10%+G54 -> 20841593 | I54: =SUM(F54/E54-1) -> 0.34518059
B55: Utilidad del periodo | C55: 0 | D55: =+'Estado de resultados'!C25 -> -3.3593815e+08 | E55: =+'Estado de resultados'!D25 -> -1.288437e+08 | F55: =+'Estado de resultados'!E25 -> 1.2541502e+08 | G55: =+'Estado de resultados'!F25 -> 3.9985062e+08 | H55: =+'Estado de resultados'!G25 -> 7.3511478e+08 | I55: =SUM(F55/E55-1) -> -1.9733888
B57: Total patrimonio | C57: =SUM(C52:C55) -> 90000000 | D57: =SUM(D52:D55) -> -2.4593815e+08 | E57: =SUM(E52:E55) -> -3.7478185e+08 | F57: =SUM(F52:F55) -> -2.4936683e+08 | G57: =SUM(G52:G55) -> 1.5048379e+08 | H57: =SUM(H52:H55) -> 8.8559857e+08
...

Sheet Flujo de Caja
B2: =+'Balance General'!B2:H2 -> ConectaDos
B4: FLUJO DE CAJA DEL PROYECTO
B6: Concepto | D6: ='Estado de resultados'!C6 -> 2027 | E6: ='Estado de resultados'!D6 -> 2028 | F6: ='Estado de resultados'!E6 -> 2029 | G6: ='Estado de resultados'!F6 -> 2030 | H6: ='Estado de resultados'!G6 -> 2031
B9: Ventas | D9: ='Estado de resultados'!C9 -> 878322000 | E9: ='Estado de resultados'!D9 -> 1.1794108e+09 | F9: ='Estado de resultados'!E9 -> 1.6187413e+09 | G9: ='Estado de resultados'!F9 -> 2.1231411e+09 | H9: ='Estado de resultados'!G9 -> 2.7515908e+09
B10: Costos | D10: ='Estado de resultados'!C10 -> 175664400 | E10: ='Estado de resultados'!D10 -> 2.128298e+08 | F10: ='Estado de resultados'!E10 -> 2.6544056e+08 | G10: ='Estado de resultados'!F10 -> 3.1746531e+08 | H10: ='Estado de resultados'!G10 -> 3.8089107e+08
B11: Gastos operativos | D11: ='Estado de resultados'!C14 -> 9.860635e+08 | E11: ='Estado de resultados'!D14 -> 1.0522697e+09 | F11: ='Estado de resultados'!E14 -> 1.1277021e+09 | G11: ='Estado de resultados'!F14 -> 1.1778206e+09 | H11: ='Estado de resultados'!G14 -> 1.2457085e+09
B13: Utilidad operativa | D13: =+D9-D10-D11 -> -2.834059e+08 | E13: =+E9-E10-E11 -> -85688724 | F13: =+F9-F10-F11 -> 2.255986e+08 | G13: =+G9-G10-G11 -> 6.2785514e+08 | H13: =+H9-H10-H11 -> 1.1249912e+09
B15: Impuesto de renta operativo | E15: =+D13*'Información inicial'!$C$2531 -> -99192064 | F15: =+E13*'Información inicial'!$C$2531 -> -29991053 | G15: =+F13*'Información inicial'!$C$2531 -> 78959511 | H15: =+G13*'Información inicial'!$C$2531 -> 2.197493e+08
B16: Beneficio fiscal financiero | E16: ='Estado de resultados'!C23-'Flujo de Caja'!E15 -> 99192064 | F16: ='Estado de resultados'!D23-'Flujo de Caja'!F15 -> 29991053 | G16: ='Estado de resultados'!E23-'Flujo de Caja'!G15 -> -11428348 | H16: ='Estado de resultados'!F23-'Flujo de Caja'!H15 -> -4445120.1
B18: Utilidad operativa despues de impuestos | D18: =+D13-D15-D16 -> -2.834059e+08 | E18: =+E13-E15-E16 -> -85688724 | F18: =+F13-F15-F16 -> 2.255986e+08 | G18: =+G13-G15-G16 -> 5.6032398e+08 | H18: =+H13-H15-H16 -> 9.0968707e+08
B20: Depreciación y amortización | D20: ='Información inicial'!D2469+'Información inicial'!D2471 -> 47790000 | E20: ='Información inicial'!E2469+'Información inicial'!E2471 -> 24790000 | F20: ='Información inicial'!F2469+'Información inicial'!F2471 -> 24790000 | G20: ='Información inicial'!G2469+'Información inicial'!G2471 -> 0 | H20: ='Información inicial'!H2469+'Información inicial'!H2471 -> 0
B22: Flujo de caja bruto operativo | C22: =-'Información inicial'!D2515 -> -5.8643675e+08 | D22: =+D18+D20 -> -2.356159e+08 | E22: =+E18+E20 -> -60898724 | F22: =+F18+F20 -> 2.503886e+08 | G22: =+G18+G20 -> 5.6032398e+08 | H22: =+H18+H20 -> 9.0968707e+08
B24: TIR DEL PROYECTO | C24: =+IRR(C22:H22) -> 0.18329736
B25: WACC DEL PROYECTO | C25: =wacc!H27 -> 0.35398391
B26: TIR MODIFICADA DEL PROYECTO | C26: =MIRR(C22:H22,C25,'Información inicial'!C2529) -> 0.1774118
B27: VPN DEL PROYECTO | C27: =NPV(C25,D22:H22)+C22 -> -3.2617489e+08
B31: Reposición de capital de trabajo | E31: ='Ind. Generacion Valor'!G8-'Ind. Generacion Valor'!F8 -> 21993615 | F31: ='Ind. Generacion Valor'!H8-'Ind. Generacion Valor'!G8 -> 32226646 | G31: ='Ind. Generacion Valor'!I8-'Ind. Generacion Valor'!H8 -> 37697920 | H31: ='Ind. Generacion Valor'!J8-'Ind. Generacion Valor'!I8 -> 47085333
B32: Reposición de activos fijos | E32: ='Información inicial'!D2467 -> 0 | F32: ='Información inicial'!E2467 -> 0 | G32: ='Información inicial'!F2467 -> 0 | H32: ='Información inicial'!G2467 -> 0
B36: Servicio de la deuda | D36: =Efectivo!D27 -> 78143976 | E36: =Efectivo!E27 -> 87521253 | F36: =Efectivo!F27 -> 98023803 | G36: =Efectivo!G27 -> 1.0978666e+08 | H36: =Efectivo!H27 -> 1.2296106e+08
B37: Gastos financieros | D37: ='Estado de resultados'!C18 -> 52532251 | E37: ='Estado de resultados'!D18 -> 43154974 | F37: ='Estado de resultados'!E18 -> 32652424 | G37: ='Estado de resultados'!F18 -> 20889567 | H37: ='Estado de resultados'!G18 -> 7715168.1
B39: Flujo de caja libre inversionista | C39: =-'Información inicial'!C2521 -> -90000000 | D39: =+D22-D36-D37-D31-D32 -> -3.6629212e+08 | E39: =+E22-E36-E37-E31-E32 -> -2.1356857e+08 | F39: =+F22-F36-F37-F31-F32 -> 87485729 | G39: =+G22-G36-G37-G31-G32 -> 3.9194983e+08 | H39: =+H22-H36-H37-H31-H32 -> 7.3192551e+08
B41: TIR DEL INVERSIONISTA | C41: =IRR(C39:H39) -> 0.19352299
B42: TMRR | C42: ='Información inicial'!F2521 -> 0.22
B43: TIR MODIFICADA DEL INVERSIONISTA | C43: =MIRR(C39:H39,C42,'Información inicial'!C2529) -> 0.18582435
B44: VPN | C44: =NPV(C417,D39:H39)+C39 -> 5.4150038e+08

Sheet Punto de equilibrio
B2: PUNTO DE EQUILIBRIO - PRIMER AÑO
B4: COSTOS FIJOS: | C4: =+'Flujo de Caja'!D6 -> 2027 | E4: PRECIO DE VENTA | F4: =+C14 -> 2027
